BEGIN:VCALENDAR
VERSION:2.0
PRODID:-//wp-events-plugin.com//7.2.3.1//EN
BEGIN:VEVENT
UID:16@esca.us
DTSTART;TZID=America/Chicago;VALUE=DATE:20211206
DTEND;TZID=America/Chicago;VALUE=DATE:20211208
DTSTAMP:20211108T183012Z
URL:https://esca.us/events/midwestern-regional-conference/
SUMMARY:Midwestern Regional Policy Conference
DESCRIPTION:
ATTACH;FMTTYPE=image/jpeg:https://esca.us/wp-content/uploads/2021/06/Minne
 apolis-MN.jpg
CATEGORIES:Regional Conferences
LOCATION:W Hotel Minneapolis - The Foshay\, 821 S Marquette Ave\, Minneapol
 is\, MN\, 55402\, United States
GEO:44.974361;-93.271886
X-APPLE-STRUCTURED-LOCATION;VALUE=URI;X-ADDRESS=821 S Marquette Ave\, Minne
 apolis\, MN\, 55402\, United States;X-APPLE-RADIUS=100;X-TITLE=W Hotel Min
 neapolis - The Foshay:geo:44.974361,-93.271886
END:VEVENT
BEGIN:VTIMEZONE
TZID:America/Chicago
X-LIC-LOCATION:America/Chicago
BEGIN:STANDARD
DTSTART:20211107T010000
TZOFFSETFROM:-0500
TZOFFSETTO:-0600
TZNAME:CST
END:STANDARD
END:VTIMEZONE
END:VCALENDAR