BEGIN:VCALENDAR
VERSION:2.0
PRODID:-//wp-events-plugin.com//7.2.3.1//EN
BEGIN:VEVENT
UID:45@esca.us
DTSTART;TZID=America/New_York;VALUE=DATE:20270217
DTEND;TZID=America/New_York;VALUE=DATE:20270220
DTSTAMP:20260326T220420Z
URL:https://esca.us/events/2027-leadership-summit-2/
SUMMARY:2027 Leadership Summit
DESCRIPTION:
ATTACH;FMTTYPE=image/jpeg:https://esca.us/wp-content/uploads/2025/10/99ca6
 081f37944448378720648691dd5_large_479fbb4c74a70abcec81735de6489371.jpg
CATEGORIES:Annual Conferences
LOCATION:The Vinoy\, 501 5th Ave NE \, St. Petersburg\, Florida\, 33701\, U
 nited States
X-APPLE-STRUCTURED-LOCATION;VALUE=URI;X-ADDRESS=501 5th Ave NE \, St. Peter
 sburg\, Florida\, 33701\, United States;X-APPLE-RADIUS=100;X-TITLE=The Vin
 oy:geo:0,0
END:VEVENT
BEGIN:VTIMEZONE
TZID:America/New_York
X-LIC-LOCATION:America/New_York
BEGIN:STANDARD
DTSTART:20261101T010000
TZOFFSETFROM:-0400
TZOFFSETTO:-0500
TZNAME:EST
END:STANDARD
END:VTIMEZONE
END:VCALENDAR