BEGIN:VCALENDAR
VERSION:2.0
PRODID:-//wp-events-plugin.com//7.2.3.1//EN
BEGIN:VEVENT
UID:44@esca.us
DTSTART;TZID=America/New_York;VALUE=DATE:20261026
DTEND;TZID=America/New_York;VALUE=DATE:20261028
DTSTAMP:20251009T140320Z
URL:https://esca.us/events/2026-pacific-regional-policy-seminar/
SUMMARY:2026 Pacific Regional Policy Seminar
DESCRIPTION:
ATTACH;FMTTYPE=image/jpeg:https://esca.us/wp-content/uploads/2023/09/pacif
 ic.jpeg
CATEGORIES:Regional Conferences
LOCATION:Hotel Del Coronado\, 1500 Orange Ave.\, Coronado\, CA\, 92118\, Un
 ited States
GEO:32.680633;-117.178556
X-APPLE-STRUCTURED-LOCATION;VALUE=URI;X-ADDRESS=1500 Orange Ave.\, Coronado
 \, CA\, 92118\, United States;X-APPLE-RADIUS=100;X-TITLE=Hotel Del Coronad
 o:geo:32.680633,-117.178556
END:VEVENT
BEGIN:VTIMEZONE
TZID:America/New_York
X-LIC-LOCATION:America/New_York
BEGIN:DAYLIGHT
DTSTART:20260308T030000
TZOFFSETFROM:-0500
TZOFFSETTO:-0400
TZNAME:EDT
END:DAYLIGHT
END:VTIMEZONE
END:VCALENDAR